BEGIN:VCALENDAR
VERSION:2.0
PRODID:-// - ECPv6.8.2//NONSGML v1.0//EN
CALSCALE:GREGORIAN
METHOD:PUBLISH
X-ORIGINAL-URL:https://cercl.club
X-WR-CALDESC:Évènements pour 
REFRESH-INTERVAL;VALUE=DURATION:PT1H
X-Robots-Tag:noindex
X-PUBLISHED-TTL:PT1H
BEGIN:VTIMEZONE
TZID:Europe/Paris
BEGIN:DAYLIGHT
TZOFFSETFROM:+0100
TZOFFSETTO:+0200
TZNAME:CEST
DTSTART:20250330T010000
END:DAYLIGHT
BEGIN:STANDARD
TZOFFSETFROM:+0200
TZOFFSETTO:+0100
TZNAME:CET
DTSTART:20251026T010000
END:STANDARD
END:VTIMEZONE
BEGIN:VEVENT
DTSTART;VALUE=DATE:20250901
DTEND;VALUE=DATE:20251001
DTSTAMP:20260420T083523
CREATED:20250905T062321Z
LAST-MODIFIED:20250905T062321Z
UID:784-1756684800-1759276799@cercl.club
SUMMARY:Ouverture des adhésions
DESCRIPTION:Adhérer
URL:https://cercl.club/event/ouverture-des-adhesions/
CATEGORIES:Atelier,Manifestation scientifique,Rendez-vous culturel,Rendez-vous festif,Réunions
END:VEVENT
END:VCALENDAR