BEGIN:VCALENDAR
VERSION:2.0
PRODID:-// - ECPv6.8.2//NONSGML v1.0//EN
CALSCALE:GREGORIAN
METHOD:PUBLISH
X-ORIGINAL-URL:https://cercl.club
X-WR-CALDESC:Évènements pour 
REFRESH-INTERVAL;VALUE=DURATION:PT1H
X-Robots-Tag:noindex
X-PUBLISHED-TTL:PT1H
BEGIN:VTIMEZONE
TZID:Europe/Paris
BEGIN:DAYLIGHT
TZOFFSETFROM:+0100
TZOFFSETTO:+0200
TZNAME:CEST
DTSTART:20240331T010000
END:DAYLIGHT
BEGIN:STANDARD
TZOFFSETFROM:+0200
TZOFFSETTO:+0100
TZNAME:CET
DTSTART:20241027T010000
END:STANDARD
END:VTIMEZONE
BEGIN:VEVENT
DTSTART;TZID=Europe/Paris:20241213T190000
DTEND;TZID=Europe/Paris:20241215T170000
DTSTAMP:20260423T002026
CREATED:20241121T122926Z
LAST-MODIFIED:20241202T203844Z
UID:568-1734116400-1734282000@cercl.club
SUMMARY:Week-end «Utopies Nivernaises »
DESCRIPTION:Week-end «Utopies Nivernaises »\nSamedi 14 décembre :\nAu café associatif des Baraques \n\n\n\n16h / Table-ronde : « Cultures et territoires » \nPrésentation des activités du CERCL et d’ALTHEA STUDIO. \nPrésentation de la revue Europhonie(s)\n\n\n\nA la salle des fêtes \n\n\n\n19h30 / Banquet du CERCL
URL:https://cercl.club/event/week-end-utopies-nivernaises/
LOCATION:La Machine\, La Machine\, La Machine\, 58260
CATEGORIES:Rendez-vous culturel
ATTACH;FMTTYPE=image/png:https://cercl.club/wp-content/uploads/2024/11/Utopies-nivernaises-V2.png
END:VEVENT
END:VCALENDAR