BEGIN:VCALENDAR
VERSION:2.0
PRODID:-// - ECPv6.8.2//NONSGML v1.0//EN
CALSCALE:GREGORIAN
METHOD:PUBLISH
X-ORIGINAL-URL:https://cercl.club
X-WR-CALDESC:Évènements pour 
REFRESH-INTERVAL;VALUE=DURATION:PT1H
X-Robots-Tag:noindex
X-PUBLISHED-TTL:PT1H
BEGIN:VTIMEZONE
TZID:Europe/Paris
BEGIN:DAYLIGHT
TZOFFSETFROM:+0100
TZOFFSETTO:+0200
TZNAME:CEST
DTSTART:20250330T010000
END:DAYLIGHT
BEGIN:STANDARD
TZOFFSETFROM:+0200
TZOFFSETTO:+0100
TZNAME:CET
DTSTART:20251026T010000
END:STANDARD
END:VTIMEZONE
BEGIN:VEVENT
DTSTART;TZID=Europe/Paris:20250611T140000
DTEND;TZID=Europe/Paris:20250611T170000
DTSTAMP:20260422T140725
CREATED:20250606T115010Z
LAST-MODIFIED:20250606T115011Z
UID:759-1749650400-1749661200@cercl.club
SUMMARY:Entretien avec Sylvie Kandé
DESCRIPTION:11 juin 2025\, de 14h à 16h\n \nEntretien avec Sylvie Kandé : \n« Écriture poétique des eaux\, traversées et migrations » \nModération : Oriane Chevalier  \nL’entretien sera suivi d’une séance de dédicace à la Librairie des Volcans à partir de 17h30. \n 
URL:https://cercl.club/event/entretien-avec-sylvie-kande/
LOCATION:Maison des Sciences de l’Homme – Amphi 220\, Rue Ledru\, Clermont-Ferrand
CATEGORIES:Manifestation scientifique,Rendez-vous culturel
ATTACH;FMTTYPE=image/jpeg:https://cercl.club/wp-content/uploads/2025/06/entretien-avec-sylvie-kande-_1747914340798-jpg.jpeg
END:VEVENT
END:VCALENDAR