BEGIN:VCALENDAR
VERSION:2.0
PRODID:-// - ECPv6.8.2//NONSGML v1.0//EN
CALSCALE:GREGORIAN
METHOD:PUBLISH
X-ORIGINAL-URL:https://cercl.club
X-WR-CALDESC:Évènements pour 
REFRESH-INTERVAL;VALUE=DURATION:PT1H
X-Robots-Tag:noindex
X-PUBLISHED-TTL:PT1H
BEGIN:VTIMEZONE
TZID:Europe/Paris
BEGIN:DAYLIGHT
TZOFFSETFROM:+0100
TZOFFSETTO:+0200
TZNAME:CEST
DTSTART:20250330T010000
END:DAYLIGHT
BEGIN:STANDARD
TZOFFSETFROM:+0200
TZOFFSETTO:+0100
TZNAME:CET
DTSTART:20251026T010000
END:STANDARD
END:VTIMEZONE
BEGIN:VEVENT
DTSTART;TZID=Europe/Paris:20250217T093000
DTEND;TZID=Europe/Paris:20250220T120000
DTSTAMP:20260422T200610
CREATED:20250212T084734Z
LAST-MODIFIED:20250212T084734Z
UID:666-1739784600-1740052800@cercl.club
SUMMARY:Colloque international « # Recherche-Création »
DESCRIPTION:Organisé par le Centre de Recherches sur les Littératures et la Sociopoétique (CELIS\, UR 4280) et le Service  Université Culture (SUC) de l’Université Clermont Auvergne en collaboration avec la MSH de Clermont-Ferrand et l’École Supérieure d’Art de Clermont Métropole (ESACM). \n  \nLes 17\, 18\, 19 et 20 février 2025 à la Maison des sciences de l’Homme de Clermont-Ferrand (amphi 219 et 220)\, à l’École Supérieure d’Art de Clermont Métropole et la  Salle Georges Guillot\, résidence Philippe Lebon. \n#RCréa 2025 / Programme \n 
URL:https://cercl.club/event/colloque-international-recherche-creation/
LOCATION:Clermont-Ferrand\, Clermont-Ferrand
CATEGORIES:Manifestation scientifique,Rendez-vous culturel
ATTACH;FMTTYPE=image/png:https://cercl.club/wp-content/uploads/2025/02/RCrea-2025-Comm-Affiche-Colloque-1.png
END:VEVENT
END:VCALENDAR