BEGIN:VCALENDAR
VERSION:2.0
PRODID:-// - ECPv6.8.2//NONSGML v1.0//EN
CALSCALE:GREGORIAN
METHOD:PUBLISH
X-ORIGINAL-URL:https://cercl.club
X-WR-CALDESC:Évènements pour 
REFRESH-INTERVAL;VALUE=DURATION:PT1H
X-Robots-Tag:noindex
X-PUBLISHED-TTL:PT1H
BEGIN:VTIMEZONE
TZID:Europe/Paris
BEGIN:DAYLIGHT
TZOFFSETFROM:+0100
TZOFFSETTO:+0200
TZNAME:CEST
DTSTART:20250330T010000
END:DAYLIGHT
BEGIN:STANDARD
TZOFFSETFROM:+0200
TZOFFSETTO:+0100
TZNAME:CET
DTSTART:20251026T010000
END:STANDARD
END:VTIMEZONE
BEGIN:VEVENT
DTSTART;TZID=Europe/Paris:20251013T190000
DTEND;TZID=Europe/Paris:20251013T200000
DTSTAMP:20260421T132432
CREATED:20250929T154943Z
LAST-MODIFIED:20250930T125432Z
UID:810-1760382000-1760385600@cercl.club
SUMMARY:Atelier d'écriture : "Poésie aux Deux Comptoirs"
DESCRIPTION:Atelier d’écriture : « Poésie aux Deux Comptoirs » \nLundi 13 octobre 2025 / 19h00 \n1ère séance : « Le Rien »
URL:https://cercl.club/event/atelier-decriture-poesie-aux-deux-comptoirs/
LOCATION:Aux Deux Comptoirs\, 29 rue du Port\, Clermont-Ferrand
CATEGORIES:Atelier
ATTACH;FMTTYPE=image/png:https://cercl.club/wp-content/uploads/2025/09/Le-Vortex-du-Rien.png
END:VEVENT
END:VCALENDAR