BEGIN:VCALENDAR
VERSION:2.0
PRODID:-// - ECPv6.8.2//NONSGML v1.0//EN
CALSCALE:GREGORIAN
METHOD:PUBLISH
X-ORIGINAL-URL:https://cercl.club
X-WR-CALDESC:Évènements pour 
REFRESH-INTERVAL;VALUE=DURATION:PT1H
X-Robots-Tag:noindex
X-PUBLISHED-TTL:PT1H
BEGIN:VTIMEZONE
TZID:Europe/Paris
BEGIN:DAYLIGHT
TZOFFSETFROM:+0100
TZOFFSETTO:+0200
TZNAME:CEST
DTSTART:20250330T010000
END:DAYLIGHT
BEGIN:STANDARD
TZOFFSETFROM:+0200
TZOFFSETTO:+0100
TZNAME:CET
DTSTART:20251026T010000
END:STANDARD
END:VTIMEZONE
BEGIN:VEVENT
DTSTART;TZID=Europe/Paris:20250522T173000
DTEND;TZID=Europe/Paris:20250522T173000
DTSTAMP:20260423T180014
CREATED:20250505T082023Z
LAST-MODIFIED:20250521T164305Z
UID:731-1747935000-1747935000@cercl.club
SUMMARY:Conclusion(s) / Esthétiques fondamentales : pour une poétique de l'espace-temps
DESCRIPTION:Dernière séance : Conclusion(s) \nAccessible en ligne. : https://teams.microsoft.com/l/meetup-join/19%3ameeting_Y2RlZDVjODctNDU2YS00ZDQzLTk5MTctMzAxMjhhNmNjOTZi%40thread.v2/0?context=%7b%22Tid%22%3a%225a16bd04-b475-49ff-b11a-c6c8359db1b1%22%2c%22Oid%22%3a%2240e7d898-ba89-44aa-a1da-f74c836795a9%22%7d
URL:https://cercl.club/event/conclusions-esthetiques-fondamentales-pour-une-poetique-de-lespace-temps/
LOCATION:Maison des Sciences Humaines – Amphi 125\, Maison des Sciences de l'Homme Rue Ledru\, Clermont-Ferrand\, 63000\, France
CATEGORIES:Manifestation scientifique
ATTACH;FMTTYPE=image/png:https://cercl.club/wp-content/uploads/2025/05/Affiche-seance-du-22-mai-EF-1-scaled.png
END:VEVENT
END:VCALENDAR