BEGIN:VCALENDAR
VERSION:2.0
PRODID:-// - ECPv6.8.2//NONSGML v1.0//EN
CALSCALE:GREGORIAN
METHOD:PUBLISH
X-ORIGINAL-URL:https://cercl.club
X-WR-CALDESC:Évènements pour 
REFRESH-INTERVAL;VALUE=DURATION:PT1H
X-Robots-Tag:noindex
X-PUBLISHED-TTL:PT1H
BEGIN:VTIMEZONE
TZID:Europe/Paris
BEGIN:DAYLIGHT
TZOFFSETFROM:+0100
TZOFFSETTO:+0200
TZNAME:CEST
DTSTART:20250330T010000
END:DAYLIGHT
BEGIN:STANDARD
TZOFFSETFROM:+0200
TZOFFSETTO:+0100
TZNAME:CET
DTSTART:20251026T010000
END:STANDARD
END:VTIMEZONE
BEGIN:VEVENT
DTSTART;TZID=Europe/Paris:20250513T200000
DTEND;TZID=Europe/Paris:20250513T223000
DTSTAMP:20260423T180253
CREATED:20250505T093007Z
LAST-MODIFIED:20250505T093007Z
UID:743-1747166400-1747175400@cercl.club
SUMMARY:George de Molière
DESCRIPTION:« George de Molière »\, \nMardi 13 mai à 20h00 \nComédie de Clermont. \nhttps://www.helloasso.com/associations/collectif-etudiant-de-recherche-et-de-creation-litteraire/evenements/george-de-moliere
URL:https://cercl.club/event/george-de-moliere/
LOCATION:Comédie de Clermont\, Comédie de Clermont\, Clermont-Ferrand
CATEGORIES:Rendez-vous culturel
ATTACH;FMTTYPE=image/jpeg:https://cercl.club/wp-content/uploads/2025/05/george-de-moliere-clinic-orgasm-society-anoek-luyten-2.jpg
END:VEVENT
END:VCALENDAR