BEGIN:VCALENDAR
VERSION:2.0
PRODID:-// - ECPv6.8.2//NONSGML v1.0//EN
CALSCALE:GREGORIAN
METHOD:PUBLISH
X-ORIGINAL-URL:https://cercl.club
X-WR-CALDESC:Évènements pour 
REFRESH-INTERVAL;VALUE=DURATION:PT1H
X-Robots-Tag:noindex
X-PUBLISHED-TTL:PT1H
BEGIN:VTIMEZONE
TZID:Europe/Paris
BEGIN:DAYLIGHT
TZOFFSETFROM:+0100
TZOFFSETTO:+0200
TZNAME:CEST
DTSTART:20250330T010000
END:DAYLIGHT
BEGIN:STANDARD
TZOFFSETFROM:+0200
TZOFFSETTO:+0100
TZNAME:CET
DTSTART:20251026T010000
END:STANDARD
END:VTIMEZONE
BEGIN:VEVENT
DTSTART;TZID=Europe/Paris:20250205T130000
DTEND;TZID=Europe/Paris:20250205T150000
DTSTAMP:20260423T223023
CREATED:20250122T130201Z
LAST-MODIFIED:20250122T130354Z
UID:620-1738760400-1738767600@cercl.club
SUMMARY:Séminaire « Les visages de l’eau : Dialogue France-Chine »
DESCRIPTION:
URL:https://cercl.club/event/seminaire-les-visages-de-leau-dialogue-france-chine-2/
LOCATION:Maison des Sciences de l’Homme\, rue Ledru\, Clermont-Ferrand\, France
CATEGORIES:Manifestation scientifique
END:VEVENT
BEGIN:VEVENT
DTSTART;TZID=Europe/Paris:20250205T150000
DTEND;TZID=Europe/Paris:20250205T170000
DTSTAMP:20260423T223023
CREATED:20250122T130315Z
LAST-MODIFIED:20250122T130348Z
UID:624-1738767600-1738774800@cercl.club
SUMMARY:Initiation à la calligraphie chinoise
DESCRIPTION:Sur inscription par mail à contact@cercl.club \nSalle 28 – Maison des Sciences de l’Homme
URL:https://cercl.club/event/initiation-a-la-calligraphie-chinoise/
LOCATION:Maison des Sciences de l’Homme\, rue Ledru\, Clermont-Ferrand\, France
CATEGORIES:Atelier
END:VEVENT
END:VCALENDAR