BEGIN:VCALENDAR
VERSION:2.0
PRODID:-// - ECPv6.8.2//NONSGML v1.0//EN
CALSCALE:GREGORIAN
METHOD:PUBLISH
X-ORIGINAL-URL:https://cercl.club
X-WR-CALDESC:Évènements pour 
REFRESH-INTERVAL;VALUE=DURATION:PT1H
X-Robots-Tag:noindex
X-PUBLISHED-TTL:PT1H
BEGIN:VTIMEZONE
TZID:Europe/Paris
BEGIN:DAYLIGHT
TZOFFSETFROM:+0100
TZOFFSETTO:+0200
TZNAME:CEST
DTSTART:20240331T010000
END:DAYLIGHT
BEGIN:STANDARD
TZOFFSETFROM:+0200
TZOFFSETTO:+0100
TZNAME:CET
DTSTART:20241027T010000
END:STANDARD
END:VTIMEZONE
BEGIN:VEVENT
DTSTART;TZID=Europe/Paris:20241220T180000
DTEND;TZID=Europe/Paris:20241220T193000
DTSTAMP:20260424T011630
CREATED:20241202T204002Z
LAST-MODIFIED:20241202T204002Z
UID:593-1734717600-1734723000@cercl.club
SUMMARY:Conseil du CERCL
DESCRIPTION:
URL:https://cercl.club/event/conseil-du-cercl/
LOCATION:Maison des Sciences de l’Homme – Amphi 220\, Rue Ledru\, Clermont-Ferrand
CATEGORIES:Réunions
END:VEVENT
BEGIN:VEVENT
DTSTART;TZID=Europe/Paris:20241220T193000
DTEND;TZID=Europe/Paris:20241220T220000
DTSTAMP:20260424T011630
CREATED:20241121T123039Z
LAST-MODIFIED:20241216T093650Z
UID:571-1734723000-1734732000@cercl.club
SUMMARY:Dîner de Noël
DESCRIPTION:Sur inscription  : Lien. \nA l’Odevie à partir de 19h45\, 25 euros par personne.
URL:https://cercl.club/event/diner-de-noel/
LOCATION:Clermont-Ferrand\, Clermont-Ferrand
CATEGORIES:Rendez-vous festif
END:VEVENT
END:VCALENDAR