BEGIN:VCALENDAR
VERSION:2.0
PRODID:-// - ECPv6.8.2//NONSGML v1.0//EN
CALSCALE:GREGORIAN
METHOD:PUBLISH
X-ORIGINAL-URL:https://cercl.club
X-WR-CALDESC:Évènements pour 
REFRESH-INTERVAL;VALUE=DURATION:PT1H
X-Robots-Tag:noindex
X-PUBLISHED-TTL:PT1H
BEGIN:VTIMEZONE
TZID:Europe/Paris
BEGIN:DAYLIGHT
TZOFFSETFROM:+0100
TZOFFSETTO:+0200
TZNAME:CEST
DTSTART:20240331T010000
END:DAYLIGHT
BEGIN:STANDARD
TZOFFSETFROM:+0200
TZOFFSETTO:+0100
TZNAME:CET
DTSTART:20241027T010000
END:STANDARD
END:VTIMEZONE
BEGIN:VEVENT
DTSTART;TZID=Europe/Paris:20241206T090000
DTEND;TZID=Europe/Paris:20241206T170000
DTSTAMP:20260424T011914
CREATED:20241202T203527Z
LAST-MODIFIED:20241202T203527Z
UID:587-1733475600-1733504400@cercl.club
SUMMARY:Journée d’études : « (Re)Découvrir la poétesse Amélie Murat (1882-1940) »
DESCRIPTION:Responsables scientifiques : Yvan Daniel\, Oriane Chevalier et Paolo Dias Fernandes. \n\nJournée d’Études Organisée par le CELIS en collaboration avec le Cercle Amélie Murat (Clermont-Ferrand)\n\n\n\nPlus d’informations sur  : https://celis.uca.fr/actualites/journee-detudes-%C2%AB-redecouvrir-la-poetesse-amelie-murat-1882-1940-%C2%BB
URL:https://cercl.club/event/journee-detudes-redecouvrir-la-poetesse-amelie-murat-1882-1940/
LOCATION:Maison des Sciences de l’Homme – Amphi 219\, Rue Ledru\, Clermont-Ferrand
CATEGORIES:Manifestation scientifique
ATTACH;FMTTYPE=image/jpeg:https://cercl.club/wp-content/uploads/2024/12/Affiche-JE-6-dec-2024.jpg
END:VEVENT
END:VCALENDAR