BEGIN:VCALENDAR
VERSION:2.0
PRODID:-// - ECPv6.8.2//NONSGML v1.0//EN
CALSCALE:GREGORIAN
METHOD:PUBLISH
X-ORIGINAL-URL:https://cercl.club
X-WR-CALDESC:Évènements pour 
REFRESH-INTERVAL;VALUE=DURATION:PT1H
X-Robots-Tag:noindex
X-PUBLISHED-TTL:PT1H
BEGIN:VTIMEZONE
TZID:Europe/Paris
BEGIN:DAYLIGHT
TZOFFSETFROM:+0100
TZOFFSETTO:+0200
TZNAME:CEST
DTSTART:20240331T010000
END:DAYLIGHT
BEGIN:STANDARD
TZOFFSETFROM:+0200
TZOFFSETTO:+0100
TZNAME:CET
DTSTART:20241027T010000
END:STANDARD
END:VTIMEZONE
BEGIN:VEVENT
DTSTART;TZID=Europe/Paris:20241126T173000
DTEND;TZID=Europe/Paris:20241126T193000
DTSTAMP:20260424T012005
CREATED:20241121T105300Z
LAST-MODIFIED:20241121T113911Z
UID:549-1732642200-1732649400@cercl.club
SUMMARY:Séminaire Esthétiques fondamentales : pour une poétique de l'espace-temps
DESCRIPTION:Deuxième séance : Pour une poétique de la matière (2/2) \nIntervenant principal : Maxime Vernet (CERCL) \nDiscutants : Paolo Dias Fernandes (UCA) & Clara Saubié (UJM) \nAccessible en distanciel : https://teams.microsoft.com/v2/?meetingjoin=true#/l/meetup-join/19:meeting_ZGZjMzNjMjctODU4NC00MDZiLWFmZWQtZDFkMTAxZjM0ZmI5@thread.v2/0?context=%7b%22Tid%22%3a%225a16bd04-b475-49ff-b11a-c6c8359db1b1%22%2c%22Oid%22%3a%2240e7d898-ba89-44aa-a1da-f74c836795a9%22%7d&anon=true&deeplinkId=fd330fa0-8e76-4893-8f30-8f666a51bf53 \n 
URL:https://cercl.club/event/seminaire-esthetiques-fondamentales-pour-une-poetique-de-lespace-temps/
LOCATION:Maison des Sciences de l’Homme – Amphi 220\, Rue Ledru\, Clermont-Ferrand
CATEGORIES:Manifestation scientifique
ATTACH;FMTTYPE=image/jpeg:https://cercl.club/wp-content/uploads/2024/11/Affiche-seance-du-26-novembre-2024.jpg
END:VEVENT
END:VCALENDAR